BEGIN:VCALENDAR
VERSION:2.0
PRODID:-//Sabre//Sabre VObject 4.5.8//EN
CALSCALE:GREGORIAN
BEGIN:VEVENT
UID:sabre-vobject-e4e00dd4-3e42-41de-a870-2fd7fffa26d0
DTSTAMP:20260424T200105Z
SUMMARY:Kaffeeklatsch
DESCRIPTION:\nJoin us for coffee and socializing!\n
X-ALT-DESC:FMTTYPE=text/html:<!DOCTYPE HTML PUBLIC "-//W3C//DTD HTML 3.2//E
 N"><HTML><p><br />\nJoin us for coffee and socializing!</p>\n</HTML>
CREATED;TZID=Europe/Oslo:20170913T134535
URL;VALUE=URI:https://garmisch.armymwr.com/calendar/event
DTSTART;TZID=Europe/Oslo:20170615T000000
DTEND;TZID=Europe/Oslo:20170615T235959
SEQUENCE:0
END:VEVENT
END:VCALENDAR
