BEGIN:VCALENDAR
VERSION:2.0
PRODID:-//Sabre//Sabre VObject 4.5.8//EN
CALSCALE:GREGORIAN
BEGIN:VEVENT
UID:sabre-vobject-16c07899-f97d-4477-b367-2f0433939fb3
DTSTAMP:20260424T143935Z
SUMMARY:Summer Reading Program: Reading by Design
DESCRIPTION:Excitement and fun are in store!\n
X-ALT-DESC:FMTTYPE=text/html:<!DOCTYPE HTML PUBLIC "-//W3C//DTD HTML 3.2//E
 N"><HTML><p>Excitement and fun are in store!</p>\n</HTML>
CREATED;TZID=Europe/Oslo:20170913T134535
URL;VALUE=URI:https://garmisch.armymwr.com/calendar/event
DTSTART;TZID=Europe/Oslo:20170621T100000
DTEND;TZID=Europe/Oslo:20170621T110000
SEQUENCE:0
END:VEVENT
END:VCALENDAR
