BEGIN:VCALENDAR
VERSION:2.0
PRODID:-//Sabre//Sabre VObject 4.5.8//EN
CALSCALE:GREGORIAN
BEGIN:VEVENT
UID:sabre-vobject-94f1c00e-c428-4e1e-8b12-e97af2535019
DTSTAMP:20260424T034152Z
SUMMARY:Book Discussion Group
DESCRIPTION:This month: Hag-seed by Margaret Atwood\n
X-ALT-DESC:FMTTYPE=text/html:<!DOCTYPE HTML PUBLIC "-//W3C//DTD HTML 3.2//E
 N"><HTML><p>This month: <em>Hag-seed</em> by Margaret Atwood</p>\n</HTML>
CREATED;TZID=Europe/Oslo:20170913T134535
URL;VALUE=URI:https://garmisch.armymwr.com/calendar/event
DTSTART;TZID=Europe/Oslo:20170725T190000
DTEND;TZID=Europe/Oslo:20170725T200000
SEQUENCE:0
END:VEVENT
END:VCALENDAR
