BEGIN:VCALENDAR
VERSION:2.0
PRODID:-//Sabre//Sabre VObject 4.5.8//EN
CALSCALE:GREGORIAN
BEGIN:VEVENT
UID:sabre-vobject-3aec9a05-3f79-4ca1-bc73-13aecb73a8da
DTSTAMP:20260422T020409Z
SUMMARY:Free Movie Showing
DESCRIPTION:Bring the family!\n
X-ALT-DESC:FMTTYPE=text/html:<!DOCTYPE HTML PUBLIC "-//W3C//DTD HTML 3.2//E
 N"><HTML><p>Bring the family!</p>\n</HTML>
CREATED;TZID=Europe/Oslo:20170921T095158
URL;VALUE=URI:https://garmisch.armymwr.com/calendar/event
DTSTART;TZID=Europe/Oslo:20171014T150000
DTEND;TZID=Europe/Oslo:20171014T160000
SEQUENCE:0
END:VEVENT
END:VCALENDAR
