BEGIN:VCALENDAR
VERSION:2.0
PRODID:-//Sabre//Sabre VObject 4.5.8//EN
CALSCALE:GREGORIAN
BEGIN:VEVENT
UID:sabre-vobject-db55510f-59a3-403d-8b03-bda5d331ebd7
DTSTAMP:20260422T232358Z
SUMMARY:Goldstar Mothers and Families Observance
DESCRIPTION:The strength of our nation is our Army. The strength of our Arm
 y is our Soldiers. The strength of our Soldiers is our families.\n
X-ALT-DESC:FMTTYPE=text/html:<!DOCTYPE HTML PUBLIC "-//W3C//DTD HTML 3.2//E
 N"><HTML><p>The strength of our nation is our Army. The strength of our Ar
 my is our Soldiers. The strength of our Soldiers is our families.</p>\n</H
 TML>
CREATED;TZID=Europe/Oslo:20170922T115916
URL;VALUE=URI:https://garmisch.armymwr.com/calendar/event
DTSTART;TZID=Europe/Oslo:20170924T000000
DTEND;TZID=Europe/Oslo:20170924T235959
SEQUENCE:0
END:VEVENT
END:VCALENDAR
