BEGIN:VCALENDAR
VERSION:2.0
PRODID:-//Sabre//Sabre VObject 4.5.8//EN
CALSCALE:GREGORIAN
BEGIN:VEVENT
UID:sabre-vobject-b267bf99-a375-4380-9500-3460aa26bace
DTSTAMP:20260421T223230Z
SUMMARY:Yoga
DESCRIPTION:Bring Your Own Mat!\n
X-ALT-DESC:FMTTYPE=text/html:<!DOCTYPE HTML PUBLIC "-//W3C//DTD HTML 3.2//E
 N"><HTML><p>Bring Your Own Mat!</p>\n</HTML>
CREATED;TZID=Europe/Oslo:20171030T095309
URL;VALUE=URI:https://garmisch.armymwr.com/calendar/event
DTSTART;TZID=Europe/Oslo:20170406T090000
DTEND;TZID=Europe/Oslo:20170406T100000
SEQUENCE:0
END:VEVENT
END:VCALENDAR
