BEGIN:VCALENDAR
VERSION:2.0
PRODID:-//Sabre//Sabre VObject 4.5.8//EN
CALSCALE:GREGORIAN
BEGIN:VEVENT
UID:sabre-vobject-b687c4cd-dea4-4e22-809a-9e3f60d51f23
DTSTAMP:20260425T125751Z
SUMMARY:Garmisch Historic Walking Tour
DESCRIPTION:This tour is packed with answers to all of your Garmisch questi
 ons and other fun Garmisch facts.\n
X-ALT-DESC:FMTTYPE=text/html:<!DOCTYPE HTML PUBLIC "-//W3C//DTD HTML 3.2//E
 N"><HTML><p>This tour is packed with answers to all of your Garmisch quest
 ions and other fun Garmisch facts.</p>\n</HTML>
CREATED;TZID=Europe/Oslo:20170913T134534
URL;VALUE=URI:https://garmisch.armymwr.com/calendar/event
DTSTART;TZID=Europe/Oslo:20170531T000000
DTEND;TZID=Europe/Oslo:20170531T235959
SEQUENCE:0
END:VEVENT
END:VCALENDAR
