BEGIN:VCALENDAR
VERSION:2.0
PRODID:-//Sabre//Sabre VObject 4.5.8//EN
CALSCALE:GREGORIAN
BEGIN:VEVENT
UID:sabre-vobject-63ef5224-e364-4432-b8ce-d7462a1b3b95
DTSTAMP:20260425T110855Z
SUMMARY:Munich: The Dark Tour
DESCRIPTION:This is the most ambitious introduction to the dark period of M
 unich&rsquo\;s history offered by any tour company!\n
X-ALT-DESC:FMTTYPE=text/html:<!DOCTYPE HTML PUBLIC "-//W3C//DTD HTML 3.2//E
 N"><HTML><p>This is the most ambitious introduction to the dark period of 
 Munich&rsquo\;s history offered by any tour company!</p>\n</HTML>
CREATED;TZID=Europe/Oslo:20170913T134534
URL;VALUE=URI:https://garmisch.armymwr.com/calendar/event
DTSTART;TZID=Europe/Oslo:20170602T000000
DTEND;TZID=Europe/Oslo:20170602T235959
SEQUENCE:0
END:VEVENT
END:VCALENDAR
