BEGIN:VCALENDAR
VERSION:2.0
PRODID:-//Sabre//Sabre VObject 4.5.8//EN
CALSCALE:GREGORIAN
BEGIN:VEVENT
UID:sabre-vobject-bd8008aa-8aab-4fe6-a3af-2670d026e3f3
DTSTAMP:20260424T104658Z
SUMMARY:Nuremberg
DESCRIPTION:Getaway to Nuremberg on this fun exciting weekend with Garmisch
  Outdoor Recreation.\n
X-ALT-DESC:FMTTYPE=text/html:<!DOCTYPE HTML PUBLIC "-//W3C//DTD HTML 3.2//E
 N"><HTML><p>Getaway to Nuremberg on this fun exciting weekend with Garmisc
 h Outdoor Recreation.</p>\n</HTML>
CREATED;TZID=Europe/Oslo:20170913T134534
URL;VALUE=URI:https://garmisch.armymwr.com/calendar/event
DTSTART;TZID=Europe/Oslo:20170721T000000
DTEND;TZID=Europe/Oslo:20170721T235959
SEQUENCE:0
END:VEVENT
END:VCALENDAR
