BEGIN:VCALENDAR
VERSION:2.0
PRODID:-//Sabre//Sabre VObject 4.5.8//EN
CALSCALE:GREGORIAN
BEGIN:VEVENT
UID:sabre-vobject-c64dfcc2-8ac6-4cab-b49b-cb520f1ed01b
DTSTAMP:20260425T005402Z
SUMMARY:Volunteer Recognition Ceremony
DESCRIPTION:Volunteers - &quot\;The Heart of the Army Community&quot\;\n
X-ALT-DESC:FMTTYPE=text/html:<!DOCTYPE HTML PUBLIC "-//W3C//DTD HTML 3.2//E
 N"><HTML><p>Volunteers - &quot\;The Heart of the Army Community&quot\;</p>
 \n</HTML>
CREATED;TZID=Europe/Oslo:20220125T134716
URL;VALUE=URI:https://garmisch.armymwr.com/calendar/event
DTSTART;TZID=Europe/Oslo:20220125T180000
DTEND;TZID=Europe/Oslo:20220125T200000
SEQUENCE:0
END:VEVENT
END:VCALENDAR
