BEGIN:VCALENDAR
VERSION:2.0
PRODID:-//Sabre//Sabre VObject 4.5.8//EN
CALSCALE:GREGORIAN
BEGIN:VEVENT
UID:sabre-vobject-3c4017cc-db8f-40a2-a4b4-c539444486d5
DTSTAMP:20260419T132012Z
SUMMARY:Special Education 101
DESCRIPTION:Unlock the essentials of special education with Special Educati
 on 101 in this virtual class in collaboration with the Exceptional Family 
 Member Program (EFMP).\n
X-ALT-DESC:FMTTYPE=text/html:<!DOCTYPE HTML PUBLIC "-//W3C//DTD HTML 3.2//E
 N"><HTML><p>Unlock the essentials of special education with Special Educat
 ion 101 in this <strong>virtual class</strong> in collaboration <strong>wi
 th the Exceptional Family Member Program (EFMP).</strong></p>\n</HTML>
CREATED;TZID=Europe/Oslo:20240307T143716
URL;VALUE=URI:https://garmisch.armymwr.com/calendar/event
DTSTART;TZID=Europe/Oslo:20240404T140000
DTEND;TZID=Europe/Oslo:20240404T150000
SEQUENCE:0
END:VEVENT
BEGIN:VEVENT
UID:sabre-vobject-88cc27dd-e92d-4505-9966-96349386f1d8
DTSTAMP:20260419T132012Z
SUMMARY:Special Education 101
DESCRIPTION:Unlock the essentials of special education with Special Educati
 on 101 in this virtual class in collaboration with the Exceptional Family 
 Member Program (EFMP).\n
X-ALT-DESC:FMTTYPE=text/html:<!DOCTYPE HTML PUBLIC "-//W3C//DTD HTML 3.2//E
 N"><HTML><p>Unlock the essentials of special education with Special Educat
 ion 101 in this <strong>virtual class</strong> in collaboration <strong>wi
 th the Exceptional Family Member Program (EFMP).</strong></p>\n</HTML>
CREATED;TZID=Europe/Oslo:20240307T143716
URL;VALUE=URI:https://garmisch.armymwr.com/calendar/event
DTSTART;TZID=Europe/Oslo:20240502T140000
DTEND;TZID=Europe/Oslo:20240502T150000
SEQUENCE:1
END:VEVENT
BEGIN:VEVENT
UID:sabre-vobject-34b222df-ae0e-4e74-a880-b0c6664f9962
DTSTAMP:20260419T132012Z
SUMMARY:Special Education 101
DESCRIPTION:Unlock the essentials of special education with Special Educati
 on 101 in this virtual class in collaboration with the Exceptional Family 
 Member Program (EFMP).\n
X-ALT-DESC:FMTTYPE=text/html:<!DOCTYPE HTML PUBLIC "-//W3C//DTD HTML 3.2//E
 N"><HTML><p>Unlock the essentials of special education with Special Educat
 ion 101 in this <strong>virtual class</strong> in collaboration <strong>wi
 th the Exceptional Family Member Program (EFMP).</strong></p>\n</HTML>
CREATED;TZID=Europe/Oslo:20240307T143716
URL;VALUE=URI:https://garmisch.armymwr.com/calendar/event
DTSTART;TZID=Europe/Oslo:20240606T140000
DTEND;TZID=Europe/Oslo:20240606T150000
SEQUENCE:2
END:VEVENT
END:VCALENDAR
