BEGIN:VCALENDAR
VERSION:2.0
PRODID:-//Sabre//Sabre VObject 4.5.8//EN
CALSCALE:GREGORIAN
BEGIN:VEVENT
UID:sabre-vobject-7a8761d3-bb90-405b-9d45-eeee8e4b50ff
DTSTAMP:20260422T220159Z
SUMMARY:Kinderfest
DESCRIPTION:Get ready for a lot of fun!\n
X-ALT-DESC:FMTTYPE=text/html:<!DOCTYPE HTML PUBLIC "-//W3C//DTD HTML 3.2//E
 N"><HTML><p>Get ready for a lot of fun!</p>\n</HTML>
CREATED;TZID=Europe/Oslo:20240412T132412
URL;VALUE=URI:https://garmisch.armymwr.com/calendar/event
DTSTART;TZID=Europe/Oslo:20240424T160000
DTEND;TZID=Europe/Oslo:20240424T180000
SEQUENCE:0
END:VEVENT
END:VCALENDAR
